BEGIN:VCALENDAR
VERSION:2.0
PRODID:-//Maha Montessori - ECPv6.15.13//NONSGML v1.0//EN
CALSCALE:GREGORIAN
METHOD:PUBLISH
X-ORIGINAL-URL:https://mahamontessori.com
X-WR-CALDESC:Events for Maha Montessori
REFRESH-INTERVAL;VALUE=DURATION:PT1H
X-Robots-Tag:noindex
X-PUBLISHED-TTL:PT1H
BEGIN:VTIMEZONE
TZID:America/Los_Angeles
BEGIN:DAYLIGHT
TZOFFSETFROM:-0800
TZOFFSETTO:-0700
TZNAME:PDT
DTSTART:20250309T100000
END:DAYLIGHT
BEGIN:STANDARD
TZOFFSETFROM:-0700
TZOFFSETTO:-0800
TZNAME:PST
DTSTART:20251102T090000
END:STANDARD
BEGIN:DAYLIGHT
TZOFFSETFROM:-0800
TZOFFSETTO:-0700
TZNAME:PDT
DTSTART:20260308T100000
END:DAYLIGHT
BEGIN:STANDARD
TZOFFSETFROM:-0700
TZOFFSETTO:-0800
TZNAME:PST
DTSTART:20261101T090000
END:STANDARD
BEGIN:DAYLIGHT
TZOFFSETFROM:-0800
TZOFFSETTO:-0700
TZNAME:PDT
DTSTART:20270314T100000
END:DAYLIGHT
BEGIN:STANDARD
TZOFFSETFROM:-0700
TZOFFSETTO:-0800
TZNAME:PST
DTSTART:20271107T090000
END:STANDARD
END:VTIMEZONE
BEGIN:VEVENT
DTSTART;VALUE=DATE:20260621
DTEND;VALUE=DATE:20260622
DTSTAMP:20260422T195416
CREATED:20260107T043658Z
LAST-MODIFIED:20260107T043658Z
UID:6811-1782000000-1782086399@mahamontessori.com
SUMMARY:June Solstice
DESCRIPTION:There are two solstices every year: one in June and one in December. The June solstice marks the longest day north of the equator and the shortest day in the south. \nSun Reaches Most Northerly Point\nThe June solstice is the moment the Sun is directly above the Tropic of Cancer in the Northern Hemisphere. This is the northernmost latitude it reaches during the year. After the solstice\, it begins moving south again. \nLongest Day in the North\nSince the Northern Hemisphere is tilted toward the Sun in June\, it receives more sunlight during the course of a day. The North Pole’s tilt toward the Sun is greatest at the solstice\, so this event marks the longest day of the year north of the equator. \nThis effect is greatest in locations that are farther away from the equator. In tropical areas\, the longest day is just a little longer than 12 hours; in the temperate zone\, it is significantly longer; and places within the Arctic Circle experience Midnight Sun or polar day\, when the Sun does not set at night. \nShortest Day in the South\nConversely\, the day of the June solstice is the shortest day of the year in the Southern Hemisphere. Here\, too\, the effect is greater the farther a location is away from the equator. \nPlaces within the Antarctic Circle experience polar night\, when the Sun does not rise at all. \nWhy Is It Called a “Solstice?”\nDuring a year\, the subsolar point—the spot on the Earth’s surface directly beneath the Sun—slowly moves along a north-south axis. Having reached its southernmost point at the December solstice\, it stops and starts moving northward until it crosses the equator on the day of the March equinox. At the June solstice\, which marks the northernmost point of its journey\, it stops again to start its journey back toward the south. \nThis is how the solstices got their name: the term comes from the Latin words sol and sistere\, meaning “Sun” and “to stand still”. \nInitially\, the naming arose from observations of how the Sun’s apparent path across the sky changes slightly from one day to the next\, which is caused by the same process as the subsolar point’s movement described above. \nIn the months leading up to the June solstice\, the position of sunrise and sunset creeps northward. On the day of the solstice\, it reaches its northernmost point. After that\, the daily path of the Sun across the sky begins to creep southward again. \nWhy Does the Sun Move North and South?\nThe subsolar point moves north and south during the year because the Earth’s axis is tilted at an angle of about 23.4° in relation to the ecliptic\, an imaginary plane created by Earth’s path around the Sun. In June\, the Northern Hemisphere is tilted toward the Sun\, and the subsolar point is north of the equator. As the Earth travels toward the opposite side of its orbit\, which it reaches in December\, the Southern Hemisphere gradually receives more sunlight\, and the subsolar point travels south. \nThe Solstices and the Seasons\nThe June solstice marks the start of summer in the Northern Hemisphere and the start of winter in the Southern Hemisphere\, according to one definition. \nSunrise and Sunset Times Lag Behind\nThe longest day of the year is commonly associated with the earliest sunrise and latest sunset of the year. However\, in most locations\, the earliest sunrise happens a few days before the solstice\, while the latest sunset occurs some days after it. \nThe June Solstice in the Calendar\nEven though most people consider June 21 as the date of the June solstice\, it can happen anytime between June 20 and June 22\, depending on the time zone. June 22 solstices are rare—the last June 22 solstice took place in 1975\, and there won’t be another one until 2203. \nWhy Does the Date Vary?\nThe date of the equinoxes and solstices varies because a year in our calendar does not exactly match the length of the tropical year—the time it takes the Earth to complete an orbit around the Sun. \nToday’s Gregorian calendar has 365 days in a common year and 366 days in a leap year. However\, our planet takes about 365.242199 days to orbit the Sun. This means that the timing of the equinoxes and solstices slowly drifts apart from the Gregorian calendar\, and the solstice happens about 6 hours later each year. Eventually\, the accumulated lag becomes so large that it falls on the following date. \nTo realign the calendar with the tropical year\, a leap day is introduced (nearly) every four years. When this happens\, the equinox and solstice dates shift back to the earlier date again. \nOther factors influencing the timing of the equinoxes and solstices include variations in the length of a tropical year and in the orbital and daily rotational motion of the Earth\, such as the “wobble” in the Earth’s axis (precession).
URL:https://mahamontessori.com/event/june-solstice-2/
CATEGORIES:Season
ATTACH;FMTTYPE=image/png:https://mahamontessori.com/wp-content/uploads/2026/01/june-solstice-dark-pWV0uj.png
END:VEVENT
END:VCALENDAR