BEGIN:VCALENDAR
VERSION:2.0
PRODID:-//Maha Montessori - ECPv6.15.13//NONSGML v1.0//EN
CALSCALE:GREGORIAN
METHOD:PUBLISH
X-WR-CALNAME:Maha Montessori
X-ORIGINAL-URL:https://mahamontessori.com
X-WR-CALDESC:Events for Maha Montessori
REFRESH-INTERVAL;VALUE=DURATION:PT1H
X-Robots-Tag:noindex
X-PUBLISHED-TTL:PT1H
BEGIN:VTIMEZONE
TZID:America/Los_Angeles
BEGIN:DAYLIGHT
TZOFFSETFROM:-0800
TZOFFSETTO:-0700
TZNAME:PDT
DTSTART:20250309T100000
END:DAYLIGHT
BEGIN:STANDARD
TZOFFSETFROM:-0700
TZOFFSETTO:-0800
TZNAME:PST
DTSTART:20251102T090000
END:STANDARD
BEGIN:DAYLIGHT
TZOFFSETFROM:-0800
TZOFFSETTO:-0700
TZNAME:PDT
DTSTART:20260308T100000
END:DAYLIGHT
BEGIN:STANDARD
TZOFFSETFROM:-0700
TZOFFSETTO:-0800
TZNAME:PST
DTSTART:20261101T090000
END:STANDARD
BEGIN:DAYLIGHT
TZOFFSETFROM:-0800
TZOFFSETTO:-0700
TZNAME:PDT
DTSTART:20270314T100000
END:DAYLIGHT
BEGIN:STANDARD
TZOFFSETFROM:-0700
TZOFFSETTO:-0800
TZNAME:PST
DTSTART:20271107T090000
END:STANDARD
END:VTIMEZONE
BEGIN:VEVENT
DTSTART;VALUE=DATE:20260917
DTEND;VALUE=DATE:20260918
DTSTAMP:20260425T152904
CREATED:20260107T034943Z
LAST-MODIFIED:20260107T034943Z
UID:6665-1789603200-1789689599@mahamontessori.com
SUMMARY:Constitution Day and Citizenship Day
DESCRIPTION:Constitution Day and Citizenship Day on September 17 commemorates the formation and signing of the Constitution of the United States on September 17\, 1787. It is dedicated to all US citizens. \nIs Constitution Day and Citizenship Day a Public Holiday?\nConstitution Day and Citizenship Day 2024 is a state holiday in Arizona and an observance in 50 states. \nWhat Do People Do?\nThe United States president may issue each year a proclamation calling on government officials within the nation to display the country’s flag on government buildings on Constitution Day and Citizenship Day\, as well as inviting the people to observe this event in schools\, churches\, or other suitable places\, with appropriate ceremonies. \nVarious civil and educational authorities and individuals throughout the United States observe Constitution Day and Citizenship Day through a range of events and activities each year. For example\, the Center for Civic Education provides lesson topics on Constitution Day and Citizenship Day for students at different levels. The US Department of Education provides various resources on the event as the department is responsible for implementing Constitution Day legislated mandates. Among these is the requirement for educational institutions that receive federal funds to hold an educational program on the United States Constitution on September 17 each year. \nPublic Life\nMany people observe Constitution Day and Citizenship Day\, which is not a federal public holiday\, in the United States. \nBackground\nOn Constitution Day and Citizenship Day\, an event which falls during Constitution Week\, many people in the United States recognize the anniversary of the nation’s constitution and the efforts and responsibilities of all citizens. With regard to the nation’s constitution\, in the summer of 1787 delegates convened in Philadelphia to create “a more perfect union” and to craft the country’s constitution. They worked to develop a framework that would provide balance and freedom\, taking into account federal and state interests\, as well as individual human rights. The delegates signed the Constitution of the United States on September 17 that year. By June 21\, 1788\, the constitution was effective\, having been approved by nine of the 13 states. \nWith regard to recognizing citizens\, newspaper magnate William Randolph Hearst advocated a day to celebrate US Citizenship in 1939. In 1940 the Congress created “I Am an American Day” to be celebrated in the third Sunday in May. On February 29\, 1952\, President Harry Truman signed into law “Citizenship Day”. It was established to replace I am an American Day. On August 2\, 1956\, the Congress requested that the president proclaim the week beginning September 17 and ending September 23 of each year as “Constitution Week”. One more change was made to the event when a federal law enacted in December 2004 designated September 17 as “Constitution Day and Citizenship Day”. \nWhen Constitution Day falls on a Saturday\, Sunday or on another holiday\, the day must be held on a weekday during the preceding or following week. This was the case in 2005\, when Constitution Day was generally observed on Friday\, September 16\, and 2006 when the holiday was observed on Monday\, September 18. \nIn Arizona\, the holidays is called Constitution Commemoration Day. It is a state holiday observed on September 17 when September 17 is a Sunday. When September 17 falls on any other weekday\, the holiday is observed on the previous Sunday. \nSymbols\nPositive images of United States citizens of all backgrounds have been used to promote the “Citizenship” element of Constitution Day and Citizenship Day. The colors (red\, white and blue) of the United States flag\, as well as images of the flag\, have also been used in artwork for promotional material for the day. Painted images of the constitution’s founders are also used to illustrate the importance of the meaning behind the day and the words “We the People”\, which are written in the constitution\, have been highlighted in promotional material to symbolize unity and cooperation within the nation.
URL:https://mahamontessori.com/event/constitution-day-and-citizenship-day-2/
CATEGORIES:Observance
ATTACH;FMTTYPE=image/jpeg:https://mahamontessori.com/wp-content/uploads/2026/01/istock-1297641167-AiQUOu.jpg
END:VEVENT
END:VCALENDAR