BEGIN:VCALENDAR
VERSION:2.0
PRODID:-//Maha Montessori - ECPv6.15.13//NONSGML v1.0//EN
CALSCALE:GREGORIAN
METHOD:PUBLISH
X-WR-CALNAME:Maha Montessori
X-ORIGINAL-URL:https://mahamontessori.com
X-WR-CALDESC:Events for Maha Montessori
REFRESH-INTERVAL;VALUE=DURATION:PT1H
X-Robots-Tag:noindex
X-PUBLISHED-TTL:PT1H
BEGIN:VTIMEZONE
TZID:America/Los_Angeles
BEGIN:DAYLIGHT
TZOFFSETFROM:-0800
TZOFFSETTO:-0700
TZNAME:PDT
DTSTART:20250309T100000
END:DAYLIGHT
BEGIN:STANDARD
TZOFFSETFROM:-0700
TZOFFSETTO:-0800
TZNAME:PST
DTSTART:20251102T090000
END:STANDARD
BEGIN:DAYLIGHT
TZOFFSETFROM:-0800
TZOFFSETTO:-0700
TZNAME:PDT
DTSTART:20260308T100000
END:DAYLIGHT
BEGIN:STANDARD
TZOFFSETFROM:-0700
TZOFFSETTO:-0800
TZNAME:PST
DTSTART:20261101T090000
END:STANDARD
BEGIN:DAYLIGHT
TZOFFSETFROM:-0800
TZOFFSETTO:-0700
TZNAME:PDT
DTSTART:20270314T100000
END:DAYLIGHT
BEGIN:STANDARD
TZOFFSETFROM:-0700
TZOFFSETTO:-0800
TZNAME:PST
DTSTART:20271107T090000
END:STANDARD
END:VTIMEZONE
BEGIN:VEVENT
DTSTART;VALUE=DATE:20260217
DTEND;VALUE=DATE:20260218
DTSTAMP:20260422T212931
CREATED:20260107T043714Z
LAST-MODIFIED:20260107T043714Z
UID:6823-1771286400-1771372799@mahamontessori.com
SUMMARY:Lunar New Year
DESCRIPTION:Many people in countries such as the United States celebrate Lunar New Year\, also known as the Spring Festival or Chinese New Year. It marks the first day of the New Year in the Chinese calendar. \nIs Lunar New Year a Public Holiday?\nThis is not a public holiday. Government and public offices\, businesses\, and schools are not closed on this day but may hold special events and outreach programs to commemorate the annual observance. \nWhat Do People Do?\nMany individuals and communities\, particularly Chinese communities\, in the United States take part in the Lunar New Year celebrations\, which can last for days. Lunar New Year celebrations in the United States have\, over the years\, included activities and events such as: \n\nLunar New Year parades featuring colorful costumes\, floats\, firecrackers and other attractions.\nVarious dances\, including lion and dragon dances.\nChinatown fun runs or walks.\nBalls and pageants.\nStreet fairs.\nFirework displays.\n\nSome organizations may hold special contests or make announcements to coincide with Lunar New Year. For example\, some newspapers or magazines may announce the top 10 Chinese restaurants in a city or town on Lunar New Year. It is customary for many Chinese-American families to spend time together and exchange gifts\, including money wrapped in red and gold packages that are usually given to children. \nPublic Life\nLunar New Year is not a federal public holiday in the United States. It is a legal observance in California as of 2015. However\, some Chinese businesses may be closed on the day or amend their business hours to take part in the Lunar New Year festivities. There may be heavy traffic and some streets may be closed in towns or cities where Lunar New Year celebrations are held. \nBackground\nAccording to the U.S. Census Bureau (Census 2000: Chinese Largest Asian Group in the United States; March 4\, 2002)\, the Chinese comprised more than 20 percent of the 11.9 million people who identified themselves as Asians in the United States’ Census 2000. That translates into 2.7 million reporting as Chinese – the largest Asian group in the United States. \nChinese historical organizations in the United States can trace the arrival of the Chinese in North\, Central and South America as far back as the 1600s. Many Chinese immigrants settled in the United States during the 19th century. With immigration\, came Chinese traditions and events such as Lunar New Year\, which is now largely celebrated in many communities across the United States. \nSymbols\nLunar New Year has various symbols and traditions. For example\, flowers are an important part of New Year decorations. Writings that refer to good luck are often seen in homes and business environments. They are usually written by brush on a diamond-shaped piece of red paper. Tangerines and oranges are also displayed in many homes and stores as a sign of luck and wealth. \nEnvelopes with money (Hong Bao\, Ang Pao\, or Lai See) often come in the color red\, which symbolizes happiness\, good luck\, success and good fortune. These envelopes are mainly given as presents to children. Each Lunar New Year is associated with an animal name for one of 12 animals in the Chinese zodiac.
URL:https://mahamontessori.com/event/lunar-new-year-2/
CATEGORIES:Observance
ATTACH;FMTTYPE=image/jpeg:https://mahamontessori.com/wp-content/uploads/2026/01/chinese-newyear-canada-jao3tY.jpg
END:VEVENT
BEGIN:VEVENT
DTSTART;VALUE=DATE:20260217
DTEND;VALUE=DATE:20260218
DTSTAMP:20260422T212931
CREATED:20260107T043845Z
LAST-MODIFIED:20260107T043845Z
UID:6884-1771286400-1771372799@mahamontessori.com
SUMMARY:Shrove Tuesday/Mardi Gras
DESCRIPTION:Shrove Tuesday is the last day before the fasting period of Lent (for Western Christians)\, 47 days before Easter Sunday. Shrove Tuesday is also called Mardi Gras\, Fat Tuesday\, or Pancake Day. \nIs Shrove Tuesday/Mardi Gras a Public Holiday?\nShrove Tuesday/Mardi Gras 2025 is a state holiday in 4 states and an observance\, christian in 47 states. \nWhat Is Mardi Gras?\nMardi Gras means “Fat Tuesday” in French. It was the last day to use fat and fatty foods before the time of Lent when Christians would fast. Today\, the word Mardi Gras mainly refers to Mardi Gras parades or Carnival parades in former French-speaking territories like Alabama and Louisiana. For many people\, Mardi Gras means colorful parades\, dancing\, glittering costumes\, and extravagant balls. \nWhat Is Shrove Tuesday?\n\nShrove Tuesday is the last day before the fasting period of Lent in Western Christian churches. On Shrove Monday and Shrove Tuesday\, people in many countries celebrate Carnival\, bake pancakes\, and prepare themselves for 40 days of fasting before the most important festival in the Christian Church: Easter. \n\nMardi Gras Traditions\nTo celebrate Mardi Gras\, people dress up in eye-catching costumes – featuring the colors purple\, green\, and gold – and dance in the streets or as part of a spectacular ball. Debutantes are introduced at the Ball Tableau as a formal introduction to society. \nPeople throw trinkets like plastic jewelry and sweets to crowds as part of the customary “parade throw” at New Orleans’ Mardi Gras celebration. During the Bacchus parade\, the king’s float throws doubloons with the image of the “Celebrity King” to parade watchers. \nA rare item you can catch from a Mardi Gras parade is the New Orleans Zulu or Golden Coconut\, a painted coconut with added glitter\, either in gold or painted like Zulu faces. Officially\, throwing these coconuts has been forbidden since 1988 – but you might still catch one. \nMardi Gras Parades\nOn Mardi Gras\, many people in the United States take part in parades and festivities\, mainly in southern states like Louisiana\, Alabama\, and Texas. Mardi Gras parades feature feathered masques\, colorful costumes\, and marching bands\, as well as many local customs. \nIn Alabama\, Mardi Gras is mainly celebrated in the counties of Mobile and Baldwin\, where parades can start as early as January and traditionally feature marching bands along side colorful floats. \nIn Galveston\, Texas\, people celebrate Mardi Gras with masked balls\, a royal coronation\, Cajun dances\, and jazz performances. \nThe most famous Mardi Gras parade in the US is probably held in New Orleans\, with thousands of people flocking into the city just for the event. There are many old traditions as part of the Mardi Gras festivities\, such as the King of the Carnival and Monarch of Merriment\, as well as Comus\, the God of Revelry. \nMardi Gras Food\nTraditional Mardi Gras food includes the super sweet King Cake covered in colorful frosting. The person who gets the piece of the cake containing the hidden baby charm or little Jesus figurine is dubbed the “King” of that year’s Mardi Gras. \nCrawfish Étoufée\, a thick stew served with white rice\, is another traditional Cajun and Creole dish served in New Orleans at Mardi Gras. \nHistory of Mardi Gras in the US\nMardi Gras celebrations in the United States go back as early as 1703\, when French soldiers held festivities in Mobile\, Alabama. Back then it was more of a pre-Lent celebration akin to festivities on Shrove Tuesday in modern-day France. \nMardi Gras became a parade event in 1857\, when the Cowbellion de Rakin Society\, the first of Mobile’s organizations that journeyed to New Orleans\, set up a Mardi Gras celebration with the first carnival society\, the Mistick Krewe of Comus. \nDuring the Covid-19 pandemic\, parades and large gatherings were canceled. In order to keep the spirit alive\, many New Orleans residents decorated their houses and front yards in spectacular fashion\, earning the 2021 festivities the nickname “Yardi Gras”.
URL:https://mahamontessori.com/event/shrove-tuesday-mardi-gras-2/
CATEGORIES:Christian
ATTACH;FMTTYPE=image/jpeg:https://mahamontessori.com/wp-content/uploads/2026/01/Untitled-1-rL1IaG.jpg
END:VEVENT
END:VCALENDAR