BEGIN:VCALENDAR
VERSION:2.0
PRODID:-//Maha Montessori - ECPv6.15.13//NONSGML v1.0//EN
CALSCALE:GREGORIAN
METHOD:PUBLISH
X-ORIGINAL-URL:https://mahamontessori.com
X-WR-CALDESC:Events for Maha Montessori
REFRESH-INTERVAL;VALUE=DURATION:PT1H
X-Robots-Tag:noindex
X-PUBLISHED-TTL:PT1H
BEGIN:VTIMEZONE
TZID:America/Los_Angeles
BEGIN:DAYLIGHT
TZOFFSETFROM:-0800
TZOFFSETTO:-0700
TZNAME:PDT
DTSTART:20250309T100000
END:DAYLIGHT
BEGIN:STANDARD
TZOFFSETFROM:-0700
TZOFFSETTO:-0800
TZNAME:PST
DTSTART:20251102T090000
END:STANDARD
BEGIN:DAYLIGHT
TZOFFSETFROM:-0800
TZOFFSETTO:-0700
TZNAME:PDT
DTSTART:20260308T100000
END:DAYLIGHT
BEGIN:STANDARD
TZOFFSETFROM:-0700
TZOFFSETTO:-0800
TZNAME:PST
DTSTART:20261101T090000
END:STANDARD
BEGIN:DAYLIGHT
TZOFFSETFROM:-0800
TZOFFSETTO:-0700
TZNAME:PDT
DTSTART:20270314T100000
END:DAYLIGHT
BEGIN:STANDARD
TZOFFSETFROM:-0700
TZOFFSETTO:-0800
TZNAME:PST
DTSTART:20271107T090000
END:STANDARD
END:VTIMEZONE
BEGIN:VEVENT
DTSTART;VALUE=DATE:20260921
DTEND;VALUE=DATE:20260922
DTSTAMP:20260423T051941
CREATED:20260107T043942Z
LAST-MODIFIED:20260107T043942Z
UID:6914-1789948800-1790035199@mahamontessori.com
SUMMARY:Yom Kippur
DESCRIPTION:The Jewish Day of Atonement is marked by reflection\, fasting\, and solemn prayers for forgiveness. \nIs Yom Kippur a Public Holiday?\nWhile Yom Kippur is not a public holiday in the United States\, many Jewish-run organizations are closed on this day. \nWhen Is Yom Kippur?\nThe Day of Atonement (or Repentance) is observed on the tenth day of the month of Tishrei in the Hebrew calendar\, which usually falls between mid-September and mid-October in the Gregorian calendar. \nIt marks the end of the ten-day period known as the High Holy Days\, (also referred to as Yamim Noraim or Days of Awe) that begin with the Jewish New Year\, Rosh Hashanna. \nA Time To Right Wrongs\nYom Kippur is considered the ideal time in the Jewish calendar to repent and start the new year cleansed of sin. \nThe traditional belief is that God writes one´s fate into the Book of Life on the Jewish New Year and worshipers have the ten day period between that day\, known as Rosh Hashana\, and Yom Kippur to atone for sins and pray for forgiveness. \nAt the end of Yom Kippur\, it is said that God seals the Book of Life and one’s fate is set for the coming year. \nFasting\, Self-Denial\, and Charity\nIn the Book of Leviticus\, the Torah (Jewish Bible) states that Yom Kippur should be a day of “self-denial.” Many Jews honor that principle by fasting on the holiday to cleanse the spirit and build empathy for those who suffer from hunger. \nSome religious Jews take the self-denial principle further\, refraining from bathing\, using cosmetics\, wearing leather shoes\, and having sexual relations on Yom Kippur. \nAnother act of repentance is making donations to charity in the week before the holy day. Kapparot is an ancient giving tradition followed by some Orthodox Jews that involves swinging a bag of coins or even a live chicken overhead while praying\, then donating those items to the poor. \nBagels and Boundaries\nAfter the final Yom Kippur service\, hungry worshippers often gather for a break-fast meal. In the United States\, bagels with lax (smoked salmon)\, blintzes (crepes with filling)\, and sweet kugel (noodle pudding) are particular favorites for the occasion. \nSome Jewish Americans can find themselves caught in a conflict between their jobs and the sacred status of Yom Kippur. In 1965\, the great baseball player Sandy Koufax refused to pitch in a World Series game because it fell on the holiday. His replacement that day failed miserably and told the manager after the game: “I bet you wish I was Jewish too.” \nFive Prayer Services\nOrdinary days for religious Jews include three prayer services\, but Yom Kippur is celebrated with five\, and some ceremonies feature confessions of sins. \nOn the first night\, the ancient prayer Kol Nidre is recited. Much of the next day is usually spent at the synagogue with special ceremonies including Yizkor\, a remembrance of loved ones who have passed on. \nAt dusk\, services conclude with the Ne ila (closing) prayer and the ritual blowing of a hollow ram´s horn to mark the time when the Gates of Prayer will be closed. \nFrom the Time of Moses\nYom Kippur´s biblical roots stretch all the way back to the time of Moses. The narrative says that after wandering in the desert for years following their flight from Egypt\, the tribes of Israel famously strayed from monotheism and started worshiping a golden calf while Moses was receiving the Ten Commandments on Mount Sinai. \nThe Torah says that Moses smashed the stone tablets in anger when he returned and discovered the religious betrayal. So he climbed back to the top of the peak to ask for divine forgiveness for the people\, finally returning with a new set of commandments on the day that is now marked as Yom Kippur.
URL:https://mahamontessori.com/event/yom-kippur-2/
CATEGORIES:Jewish
ATTACH;FMTTYPE=image/jpeg:https://mahamontessori.com/wp-content/uploads/2026/01/R-Ow3NyE.jpg
END:VEVENT
END:VCALENDAR