BEGIN:VCALENDAR
VERSION:2.0
PRODID:-//Maha Montessori - ECPv6.15.13//NONSGML v1.0//EN
CALSCALE:GREGORIAN
METHOD:PUBLISH
X-WR-CALNAME:Maha Montessori
X-ORIGINAL-URL:https://mahamontessori.com
X-WR-CALDESC:Events for Maha Montessori
REFRESH-INTERVAL;VALUE=DURATION:PT1H
X-Robots-Tag:noindex
X-PUBLISHED-TTL:PT1H
BEGIN:VTIMEZONE
TZID:America/Los_Angeles
BEGIN:DAYLIGHT
TZOFFSETFROM:-0800
TZOFFSETTO:-0700
TZNAME:PDT
DTSTART:20250309T100000
END:DAYLIGHT
BEGIN:STANDARD
TZOFFSETFROM:-0700
TZOFFSETTO:-0800
TZNAME:PST
DTSTART:20251102T090000
END:STANDARD
BEGIN:DAYLIGHT
TZOFFSETFROM:-0800
TZOFFSETTO:-0700
TZNAME:PDT
DTSTART:20260308T100000
END:DAYLIGHT
BEGIN:STANDARD
TZOFFSETFROM:-0700
TZOFFSETTO:-0800
TZNAME:PST
DTSTART:20261101T090000
END:STANDARD
BEGIN:DAYLIGHT
TZOFFSETFROM:-0800
TZOFFSETTO:-0700
TZNAME:PDT
DTSTART:20270314T100000
END:DAYLIGHT
BEGIN:STANDARD
TZOFFSETFROM:-0700
TZOFFSETTO:-0800
TZNAME:PST
DTSTART:20271107T090000
END:STANDARD
END:VTIMEZONE
BEGIN:VEVENT
DTSTART;VALUE=DATE:20261108
DTEND;VALUE=DATE:20261109
DTSTAMP:20260425T235026
CREATED:20260107T040630Z
LAST-MODIFIED:20260107T040630Z
UID:6776-1794096000-1794182399@mahamontessori.com
SUMMARY:Diwali/Deepavali
DESCRIPTION:Diwali is also known as Deepavali\, Dipavali\, Dewali\, Deepawali\, or the Festival of Lights. It is celebrated in October or November each year. Diwali celebrations can last for about five days. \nIs Diwali/Deepavali a Public Holiday?\nDiwali/Deepavali is not a public holiday. Businesses have normal opening hours. \n\n\n\nLearn about India’s biggest holiday of the year. \n\nDiwali\, or Dipawali\, is India’s biggest and most important holiday of the year. The festival gets its name from the row (avali) of clay lamps (deepa) that Indians light outside their homes to symbolize the inner light that protects from spiritual darkness. This festival is as important to Hindus as the Christmas holiday is to Christians.\n\n\nOver the centuries\, Diwali has become a national festival that’s also enjoyed by non-Hindu communities. For instance\, in Jainism\, Diwali marks the nirvana\, or spiritual awakening\, of Lord Mahavira on October 15\, 527 B.C.; in Sikhism\, it honors the day that Guru Hargobind Ji\, the Sixth Sikh Guru\, was freed from imprisonment. Buddhists in India celebrate Diwali as well. 
URL:https://mahamontessori.com/event/diwali-deepavali/
CATEGORIES:Hindu
ATTACH;FMTTYPE=image/jpeg:https://mahamontessori.com/wp-content/uploads/2026/01/istock-454353339-vmow7u.jpg
END:VEVENT
END:VCALENDAR