BEGIN:VCALENDAR
VERSION:2.0
PRODID:-//Maha Montessori - ECPv6.15.13//NONSGML v1.0//EN
CALSCALE:GREGORIAN
METHOD:PUBLISH
X-ORIGINAL-URL:https://mahamontessori.com
X-WR-CALDESC:Events for Maha Montessori
REFRESH-INTERVAL;VALUE=DURATION:PT1H
X-Robots-Tag:noindex
X-PUBLISHED-TTL:PT1H
BEGIN:VTIMEZONE
TZID:America/Los_Angeles
BEGIN:DAYLIGHT
TZOFFSETFROM:-0800
TZOFFSETTO:-0700
TZNAME:PDT
DTSTART:20250309T100000
END:DAYLIGHT
BEGIN:STANDARD
TZOFFSETFROM:-0700
TZOFFSETTO:-0800
TZNAME:PST
DTSTART:20251102T090000
END:STANDARD
BEGIN:DAYLIGHT
TZOFFSETFROM:-0800
TZOFFSETTO:-0700
TZNAME:PDT
DTSTART:20260308T100000
END:DAYLIGHT
BEGIN:STANDARD
TZOFFSETFROM:-0700
TZOFFSETTO:-0800
TZNAME:PST
DTSTART:20261101T090000
END:STANDARD
BEGIN:DAYLIGHT
TZOFFSETFROM:-0800
TZOFFSETTO:-0700
TZNAME:PDT
DTSTART:20270314T100000
END:DAYLIGHT
BEGIN:STANDARD
TZOFFSETFROM:-0700
TZOFFSETTO:-0800
TZNAME:PST
DTSTART:20271107T090000
END:STANDARD
END:VTIMEZONE
BEGIN:VEVENT
DTSTART;VALUE=DATE:20260303
DTEND;VALUE=DATE:20260304
DTSTAMP:20260425T160505
CREATED:20260107T043642Z
LAST-MODIFIED:20260107T043642Z
UID:6800-1772496000-1772582399@mahamontessori.com
SUMMARY:Holi
DESCRIPTION:Holi (Dolyatra\, Doul Jatra\, Basanta-Utsav) is the Hindu festival colors that celebrates the triumph of good over evil\, good harvest\, and fertility. It usually falls in the later part of February or March. \nIs Holi a Public Holiday?\nHoli is not a public holiday. Businesses have normal opening hours. \nWhat Do People Do?\nHoli is celebrated over two days in many areas\, while other areas may celebrate it for longer periods. The festival loosens the normal social restrictions by bringing people together not based on sex\, status\, and/or age. A public bonfire is usually held between 10pm and midnight to commemorate the burning of Holika on the first evening of Holi. Many sing and dance in the street while other are shouting\, cursing and causing general mayhem during the bonfire event. \nMillions of Hindus around the world celebrate Holi with a community festival. Many visit each other’s homes to distribute sweets and greet each other. Men\, women\, adult and children all take part in dances and other cultural programs during Holi. People dress in pure white and gather together in a common place to color each other with gulal\, which are colored powders and other form of dyes. A popular activity is the throwing of water balloons at one another\, sometimes called lola. \nPublic Life\nHoli is a restricted holiday in India\, so government offices and most businesses remain open. Individuals have the flexibility to take time off to celebrate the holiday if they choose. It is not a nationwide public holiday in countries such as Australia\, Canada\, the United Kingdom\, and the United States but some cities may hold large celebrations for the occasion. \nBackground\nHoli was first celebrated as an agricultural festival celebrating the arrival of spring but has now evolved into a time when everyone throws off the gloom of winter and rejoices in the colors and liveliness of spring. The day observes the various events in Hindu mythology and disregards the social norms by participating in the festivities. \nHoli is accompanied by many legends but there are two stories that serve as the origin of Holi traditions. The story of Krishna and Radha is said to be the basis for the ritual of throwing and applying colored water and powder. According to legend\, the young Krishna complained to his mother\, Yashoda that Radha was so fair and he was so dark. Yashoda advised him to apply color to Radha’s face and see how her complexion would change. Thus\, Holi is now become a festival of colors not only to celebrate the coming of spring but also to disregard social norms and to focus on enjoying the festivities. \nAnother legend behind Holi is that an evil king tried to kill his son\, Prahalada\, a devoted follower of the god Vishnu. The king\, Hiranyakashipu\, challenged Prahalada to sit on a pyre and asked (though some believed she was forced) his sister\, Holika\, who the king believed was immune to fire\, to sit with his son in the fire. When the fire started\, everyone watched as Holika burned to death\, but Prahalada survived without any injuries due to his devotion to Vishnu. According to some accounts\, Holika begged Prahalada for forgiveness before her death\, so he promised that the burning of Holika would be remembered every year at Holi. \nSymbols\nThe bonfire represents the burning of Holika\, the triumph of good over evil. All of the dead leaves\, twigs and dirt that is collected during the winter month\, is thrown into the fire to symbolize the evil spirits. The ashes from the bonfire are believed to provide protection against diseases. Different colored powder or gulal\, oils and water represent the arrival of spring and its vibrant colors. \nNote: It is not possible to mention every activity that takes place on this occasion as celebrations vary in different regions. However\, this article provides a general overview of the main celebrations that usually occur during this event. Moreover\, the date in which it is celebrated may vary depending on locations and calendar interpretations. \n 
URL:https://mahamontessori.com/event/holi-2/
CATEGORIES:Hindu
ATTACH;FMTTYPE=image/png:https://mahamontessori.com/wp-content/uploads/2026/01/Screenshot-2024-08-20-101432-EghEkw.png
END:VEVENT
END:VCALENDAR