BEGIN:VCALENDAR
VERSION:2.0
PRODID:-//Maha Montessori - ECPv6.15.13//NONSGML v1.0//EN
CALSCALE:GREGORIAN
METHOD:PUBLISH
X-ORIGINAL-URL:https://mahamontessori.com
X-WR-CALDESC:Events for Maha Montessori
REFRESH-INTERVAL;VALUE=DURATION:PT1H
X-Robots-Tag:noindex
X-PUBLISHED-TTL:PT1H
BEGIN:VTIMEZONE
TZID:America/Los_Angeles
BEGIN:DAYLIGHT
TZOFFSETFROM:-0800
TZOFFSETTO:-0700
TZNAME:PDT
DTSTART:20250309T100000
END:DAYLIGHT
BEGIN:STANDARD
TZOFFSETFROM:-0700
TZOFFSETTO:-0800
TZNAME:PST
DTSTART:20251102T090000
END:STANDARD
BEGIN:DAYLIGHT
TZOFFSETFROM:-0800
TZOFFSETTO:-0700
TZNAME:PDT
DTSTART:20260308T100000
END:DAYLIGHT
BEGIN:STANDARD
TZOFFSETFROM:-0700
TZOFFSETTO:-0800
TZNAME:PST
DTSTART:20261101T090000
END:STANDARD
BEGIN:DAYLIGHT
TZOFFSETFROM:-0800
TZOFFSETTO:-0700
TZNAME:PDT
DTSTART:20270314T100000
END:DAYLIGHT
BEGIN:STANDARD
TZOFFSETFROM:-0700
TZOFFSETTO:-0800
TZNAME:PST
DTSTART:20271107T090000
END:STANDARD
END:VTIMEZONE
BEGIN:VEVENT
DTSTART;VALUE=DATE:20260215
DTEND;VALUE=DATE:20260216
DTSTAMP:20260422T215628
CREATED:20260107T043715Z
LAST-MODIFIED:20260107T043715Z
UID:6825-1771113600-1771199999@mahamontessori.com
SUMMARY:Maha Shivaratri
DESCRIPTION:Maha Shivratri is an annual festival honoring Shiva\, the Hindu God of destruction. People celebrate by fasting for a whole day and staying awake all night. They also chant hymns and sing devotional songs\, called bhajans. \nIs Maha Shivaratri a Public Holiday?\nMaha Shivaratri is not a public holiday. Businesses have normal opening hours. \nIt is a solemn Hindu festival devoted to introspection and meditation. The day reminds worshippers to work towards overcoming darkness and ignorance. \n\nThe Great Night of Shiva\nMaha Shivratri\, which means the great night of Shiva in Hindi and Sanskrit (Maha = great\, Ratri = night)\, is one of 12 Shiv Ratris during the year. The 14th day of the Waning Moon period of every lunar month is devoted to Shiva. These nights are also known as Masik (monthly) or Maas Shivratri. \n\nWhen is Maha Shivratri?\n\nIn South Indian calendars\, it falls on the 14th day (chaturdashi tithi) of the Waning Moon period of the Hindu month of Magha.\nIn North Indian calendars\, Maha Shivratri falls on the 13th and 14th day of the Waning Moon (Krishna paksha) in the month of Phalguna.\n\nWhere is Maha Shivratri Celebrated?\nIn India\, Maha Shivaratri is a Gazetted Holiday\, which means that all central government employees have a day off. Indian states have their own rules about granting the day off. \nIn the Indian state of Jammu and Kashmir\, Maha Shivratri is called Herath. Unlike the rest of India\, it is celebrated on the 13th (triyodashi) day of Phalguna. The next day is spent feasting. \nWhere is Maha Shivratri Celebrated?\nIn India\, Maha Shivaratri is a Gazetted Holiday\, which means that all central government employees have a day off. Indian states have their own rules about granting the day off. \nIn the Indian state of Jammu and Kashmir\, Maha Shivratri is called Herath. Unlike the rest of India\, it is celebrated on the 13th (triyodashi) day of Phalguna. The next day is spent feasting. \nFasting\, Devotional Songs\, Night-Long Vigils\nMaha Shivratri is celebrated differently in different communities and regions. Devotees usually fast (vrat) for 24 hours and stay awake during the night\, chanting sacred mantras and singing devotional songs called bhajans in praise of Shiva. One of the most repeated chants during the occasion is om Namah Shivaya. \nThey visit Shiva temples to end their fast\, burning incense and bathing the lingam or linga with rose water\, milk\, and honey. This ritual is called puja. The lingam is a phallus-shaped representation of Shiva. \nCannabis and Fairs\nAlthough Maha Shivratri is a solemn holiday\, many Hindus like to celebrate it with lively fairs. Especially towns and villages with temples host these fairs for the believers who come to pray to Shiva. \nA unique tradition associated with the Maha Shivratri celebrations is the consumption of thandai\, a drink made of cannabis (bhang)\, sweet almonds\, and milk. \nWorship Through Dance\nIn many parts of India\, including Tamil Nadu and Maharashtra\, temples organize dance festivals called Natyanjali. During the multi-day festival\, traditional dancers use their art to worship Natraj\, Shiva’s incarnation as the lord of dance. \nThe Many Legends of Maha Shivratri\n\nChurning of the seas (Samudra Manthan): According to one story\, the gods (devas) and demons (asuras) churned the mythical seas to extract amrita\, the nectar of immortality. As they churned\, poison emerged from the sea. To save the world\, Lord Shiva consumed the poison\, which turned his neck blue. Because of this\, he is also often called Neelkanth (blue throat in Sanskrit).\nThe heavenly dance of creation: Some believe that Maha Shivratri is the night when Shiva performed the tandava\, the powerful dance of creation\, preservation\, and destruction.\nShiva’s union with Parvati: In another myth\, Shiva is said to have married Parvati\, on this day after she fasted for him. Parvati is the Hindu goddess of power\, devotion\, and motherhood. Today\, many women follow goddess Parvati’s steps and fast during Shivratri for the long lives of their husbands and sons. Those who are not married\, fast and pray for a devoted husband like Shiva.\nShiva as the punisher: According to some legends\, the festival of Shivaratri commemorates the time Shiva intervened in an altercation between Brahma and Vishnu. Brahma is the God of creation\, and Vishnu is the God of preservation. Angered by their disagreement\, Shiva took the shape of a raging fire. Another story has Shiva cursing Brahma after he fought with Vishnu.\n\nGod Shiva: The Destroyer\nIn Hinduism\, Shiva is one of the three supreme lords\, the other two being Brahma and Vishnu. \nAlso known as Mahadeva\, the great God\, Shiva destroys to create. He is a kind god who lives a simple life on Mount Kailasa. He is also depicted as an angry god who destroys ignorance\, darkness\, and selfishness. His other names include Rudra\, Shankar\, Mahesh\, and Bholenath. \nShiva is often represented as sitting cross-legged with a snake coiled around his neck and his hair piled high with a Crescent Moon in it and the river Ganges flowing from it. On his forehead is his third eye\, which destroys the world when opened. The trident is his weapon of choice. \nIn the Shaivite tradition within Hinduism\, Shiva is the supreme being\, while in Shaktism\, Shiva is seen as inseparable from the goddess Shakti.
URL:https://mahamontessori.com/event/maha-shivaratri-2/
CATEGORIES:Hindu
ATTACH;FMTTYPE=image/jpeg:https://mahamontessori.com/wp-content/uploads/2026/01/shiva-blue-sky-moon-4Wlutv.jpg
END:VEVENT
END:VCALENDAR