BEGIN:VCALENDAR
VERSION:2.0
PRODID:-//Maha Montessori - ECPv6.15.13//NONSGML v1.0//EN
CALSCALE:GREGORIAN
METHOD:PUBLISH
X-WR-CALNAME:Maha Montessori
X-ORIGINAL-URL:https://mahamontessori.com
X-WR-CALDESC:Events for Maha Montessori
REFRESH-INTERVAL;VALUE=DURATION:PT1H
X-Robots-Tag:noindex
X-PUBLISHED-TTL:PT1H
BEGIN:VTIMEZONE
TZID:America/Los_Angeles
BEGIN:DAYLIGHT
TZOFFSETFROM:-0800
TZOFFSETTO:-0700
TZNAME:PDT
DTSTART:20250309T100000
END:DAYLIGHT
BEGIN:STANDARD
TZOFFSETFROM:-0700
TZOFFSETTO:-0800
TZNAME:PST
DTSTART:20251102T090000
END:STANDARD
BEGIN:DAYLIGHT
TZOFFSETFROM:-0800
TZOFFSETTO:-0700
TZNAME:PDT
DTSTART:20260308T100000
END:DAYLIGHT
BEGIN:STANDARD
TZOFFSETFROM:-0700
TZOFFSETTO:-0800
TZNAME:PST
DTSTART:20261101T090000
END:STANDARD
BEGIN:DAYLIGHT
TZOFFSETFROM:-0800
TZOFFSETTO:-0700
TZNAME:PDT
DTSTART:20270314T100000
END:DAYLIGHT
BEGIN:STANDARD
TZOFFSETFROM:-0700
TZOFFSETTO:-0800
TZNAME:PST
DTSTART:20271107T090000
END:STANDARD
END:VTIMEZONE
BEGIN:VEVENT
DTSTART;VALUE=DATE:20261011
DTEND;VALUE=DATE:20261012
DTSTAMP:20260425T210501
CREATED:20260107T043757Z
LAST-MODIFIED:20260107T043757Z
UID:6849-1791676800-1791763199@mahamontessori.com
SUMMARY:Navratri
DESCRIPTION:Navratri is one of the most important festivals in the Hindu calendar. \nIt’s celebrated all over the world\, typically falling between September and October during the month of Ashvin\, and lasts for nine days. \nNav means nine and Ratri means nights \nPeople come together during Navratri to celebrate Durga\, the mother goddess who carries lots of weapons in her arms. \nDurga is best known for killing an evil demon in a battle which lasted nine days and nights and that is why the festival lasts for nine days and nights as well! \nEach day is represented by a different colour which symbolises one of her distinct characteristics or traits. Many Hindus wear a different coloured traditional outfit each day to reflect this. \nThe festival ends with what’s known as Dussehra\, which is the celebration of good over evil. \nWhat’s the story behind Navratri?\nNavratri is a time when Hindus celebrate the goddess Durga for killing the demon\, Mahishasura. \nA more powerful God\, Lord Brahma\, had blessed Mahishasura with the gift of immortality because of his dedication to him\, which meant he could never die. \nHowever\, this gift did come with one condition – the only person who would be able to defeat Mahishasura would be a woman. \nMahishasura didn’t think any women would be strong enough to kill him and was happy with the deal. \nOver the years\, Mahishasura and his men became a powerful force attacking people on Earth and no gods were able to defeat him. \nFinally Lord Brahma\, Lord Vishnu and Lord Shiva – the three most powerful Hindu gods – decided to come together and create the goddess Durga\, a powerful woman whose job would be to destroy Mahishasura. \nThe gods equipped the new goddess Durga with lots of weapons before she went into battle with Mahishasura. \nDurga fought the demon for 10 days\, and it proved quite difficult as he kept changing his form to confuse the goddess. However\, when he finally turned into a buffalo\, Durga was able to defeat him. \nHow is Navratri celebrated?\n\n\nHow the festival is celebrated varies depending on where people live but during Navratri some families choose to fast\, only having milk\, water\, fruit and nuts during the day\, followed by a full meal after sunset. \nSome people only have water and a simple meal at night. \nThe celebrations also involve lots of dancing!
URL:https://mahamontessori.com/event/navratri-2/
CATEGORIES:Hindu
ATTACH;FMTTYPE=image/webp:https://mahamontessori.com/wp-content/uploads/2026/01/120892916_gettyimages-526751222.jpg-0Rt8pF.webp
END:VEVENT
BEGIN:VEVENT
DTSTART;VALUE=DATE:20261020
DTEND;VALUE=DATE:20261021
DTSTAMP:20260425T210501
CREATED:20260107T040827Z
LAST-MODIFIED:20260107T040827Z
UID:6778-1792454400-1792540799@mahamontessori.com
SUMMARY:Dussehra
DESCRIPTION:Dussehra (also known as Vijaya Dashami) is a prominent Hindu festival observed on the tenth day of Navaratri. It commemorates the triumph of Lord Rama over the demon king Ravana\, symbolizing the victory of good over evil. The festivities commonly include the ritualistic burning of effigies representing Ravana\, reminding people of the need to conquer their internal enemies\, such as vices\, and embrace virtues in their lives. Dussehra holds a profound spiritual significance\, inspiring devotees to seek righteousness and dispel negativity from their hearts\, thus fostering a path of virtue and inner transformation. \n 
URL:https://mahamontessori.com/event/dussehra-2/
CATEGORIES:Hindu
ATTACH;FMTTYPE=image/webp:https://mahamontessori.com/wp-content/uploads/2026/01/dussehra-holidays-AtUQAO.webp
END:VEVENT
END:VCALENDAR