BEGIN:VCALENDAR
VERSION:2.0
PRODID:-//Maha Montessori - ECPv6.15.13//NONSGML v1.0//EN
CALSCALE:GREGORIAN
METHOD:PUBLISH
X-WR-CALNAME:Maha Montessori
X-ORIGINAL-URL:https://mahamontessori.com
X-WR-CALDESC:Events for Maha Montessori
REFRESH-INTERVAL;VALUE=DURATION:PT1H
X-Robots-Tag:noindex
X-PUBLISHED-TTL:PT1H
BEGIN:VTIMEZONE
TZID:America/Los_Angeles
BEGIN:DAYLIGHT
TZOFFSETFROM:-0800
TZOFFSETTO:-0700
TZNAME:PDT
DTSTART:20250309T100000
END:DAYLIGHT
BEGIN:STANDARD
TZOFFSETFROM:-0700
TZOFFSETTO:-0800
TZNAME:PST
DTSTART:20251102T090000
END:STANDARD
BEGIN:DAYLIGHT
TZOFFSETFROM:-0800
TZOFFSETTO:-0700
TZNAME:PDT
DTSTART:20260308T100000
END:DAYLIGHT
BEGIN:STANDARD
TZOFFSETFROM:-0700
TZOFFSETTO:-0800
TZNAME:PST
DTSTART:20261101T090000
END:STANDARD
BEGIN:DAYLIGHT
TZOFFSETFROM:-0800
TZOFFSETTO:-0700
TZNAME:PDT
DTSTART:20270314T100000
END:DAYLIGHT
BEGIN:STANDARD
TZOFFSETFROM:-0700
TZOFFSETTO:-0800
TZNAME:PST
DTSTART:20271107T090000
END:STANDARD
END:VTIMEZONE
BEGIN:VEVENT
DTSTART;VALUE=DATE:20260525
DTEND;VALUE=DATE:20260526
DTSTAMP:20260418T082523
CREATED:20260107T043729Z
LAST-MODIFIED:20260107T043729Z
UID:6833-1779667200-1779753599@mahamontessori.com
SUMMARY:Memorial Day
DESCRIPTION:Memorial Day is observed on the last Monday of May. It was formerly known as Decoration Day and commemorates all men and women who have died in military service for the United States. Many people visit cemeteries and memorials on Memorial Day and it is traditionally seen as the start of the summer season. \nIs Memorial Day a Public Holiday?\nThis is a state public holiday. State government offices are closed. Some schools and businesses may also be closed on this day. \nWhat Do People Do?\nIt is traditional to fly the flag of the United States at half staff from dawn until noon. Many people visit cemeteries and memorials\, particularly to honor those who have died in military service. Many volunteers place an American flag on each grave in national cemeteries. Memorial Day is combined with Jefferson Davis’ Birthday in Mississippi. \nMemorial Day has become less of an occasion of remembrance. Many people choose to hold picnics\, sports events and family gatherings on this weekend. This day is traditionally seen as the start of the summer season for cultural events. For the fashion conscious\, it is seen as acceptable to wear white clothing\, particularly shoes from Memorial Day until Labor Day. However\, fewer and fewer people follow this rule and many wear white clothing throughout the year. \nPublic Life\nMemorial Day is a federal holiday. All non-essential Government offices are closed\, as are schools\, businesses and other organizations. Most public transit systems do not run on their regular schedule. Many people see Memorial Day weekend as an opportunity to go on a short vacation or visit family or friends. This can cause some congestion on highways and at airports. \nBackground\nMemorial Day started as an event to honor Union soldiers who had died during the American Civil War. It was inspired by the way people in the Southern states honored their dead. After World War I\, it was extended to include all men and women who died in any war or military action. \nMemorial Day was originally known as Decoration Day. The current name for this day did not come into use until after World War II. Decoration Day and then Memorial Day used to be held on May 30\, regardless of the day of the week\, on which it fell. In 1968\, the Uniform Holidays Bill was passed as part of a move to use federal holidays to create three-day weekends. This meant that from 1971\, the Memorial Day holiday has been officially observed on the last Monday in May. However\, it took a longer period for all American states to recognize the new date.
URL:https://mahamontessori.com/event/memorial-day-3/
CATEGORIES:Federal Holiday,School Closed
ATTACH;FMTTYPE=image/jpeg:https://mahamontessori.com/wp-content/uploads/2026/01/soldier-father-daughter-fhgMyc.jpg
END:VEVENT
END:VCALENDAR