BEGIN:VCALENDAR
VERSION:2.0
PRODID:-//Maha Montessori - ECPv6.15.13//NONSGML v1.0//EN
CALSCALE:GREGORIAN
METHOD:PUBLISH
X-ORIGINAL-URL:https://mahamontessori.com
X-WR-CALDESC:Events for Maha Montessori
REFRESH-INTERVAL;VALUE=DURATION:PT1H
X-Robots-Tag:noindex
X-PUBLISHED-TTL:PT1H
BEGIN:VTIMEZONE
TZID:America/Denver
BEGIN:DAYLIGHT
TZOFFSETFROM:-0700
TZOFFSETTO:-0600
TZNAME:MDT
DTSTART:20230312T090000
END:DAYLIGHT
BEGIN:STANDARD
TZOFFSETFROM:-0600
TZOFFSETTO:-0700
TZNAME:MST
DTSTART:20231105T080000
END:STANDARD
BEGIN:DAYLIGHT
TZOFFSETFROM:-0700
TZOFFSETTO:-0600
TZNAME:MDT
DTSTART:20240310T090000
END:DAYLIGHT
BEGIN:STANDARD
TZOFFSETFROM:-0600
TZOFFSETTO:-0700
TZNAME:MST
DTSTART:20241103T080000
END:STANDARD
BEGIN:DAYLIGHT
TZOFFSETFROM:-0700
TZOFFSETTO:-0600
TZNAME:MDT
DTSTART:20250309T090000
END:DAYLIGHT
BEGIN:STANDARD
TZOFFSETFROM:-0600
TZOFFSETTO:-0700
TZNAME:MST
DTSTART:20251102T080000
END:STANDARD
END:VTIMEZONE
BEGIN:VTIMEZONE
TZID:America/Los_Angeles
BEGIN:DAYLIGHT
TZOFFSETFROM:-0800
TZOFFSETTO:-0700
TZNAME:PDT
DTSTART:20230312T100000
END:DAYLIGHT
BEGIN:STANDARD
TZOFFSETFROM:-0700
TZOFFSETTO:-0800
TZNAME:PST
DTSTART:20231105T090000
END:STANDARD
BEGIN:DAYLIGHT
TZOFFSETFROM:-0800
TZOFFSETTO:-0700
TZNAME:PDT
DTSTART:20240310T100000
END:DAYLIGHT
BEGIN:STANDARD
TZOFFSETFROM:-0700
TZOFFSETTO:-0800
TZNAME:PST
DTSTART:20241103T090000
END:STANDARD
BEGIN:DAYLIGHT
TZOFFSETFROM:-0800
TZOFFSETTO:-0700
TZNAME:PDT
DTSTART:20250309T100000
END:DAYLIGHT
BEGIN:STANDARD
TZOFFSETFROM:-0700
TZOFFSETTO:-0800
TZNAME:PST
DTSTART:20251102T090000
END:STANDARD
END:VTIMEZONE
BEGIN:VEVENT
DTSTART;VALUE=DATE:20240422
DTEND;VALUE=DATE:20240423
DTSTAMP:20260424T101236
CREATED:20240220T140751Z
LAST-MODIFIED:20240820T172049Z
UID:3787-1713744000-1713830399@mahamontessori.com
SUMMARY:Passover Eve
DESCRIPTION:Note: Jewish holidays begin at sundown the day before the date specified for the holiday. \nThis is not a public holiday in the United States. Most businesses\, schools\, and offices are open and follow regular hours\, but Jewish-run businesses and organizations might be closed. \nFor more info on Passover\, click here.
URL:https://mahamontessori.com/event/passovereve/
CATEGORIES:Jewish
ATTACH;FMTTYPE=image/jpeg:https://mahamontessori.com/wp-content/uploads/2024/02/shutterstock_606028013-1-min.jpg
END:VEVENT
BEGIN:VEVENT
DTSTART;VALUE=DATE:20240423
DTEND;VALUE=DATE:20240424
DTSTAMP:20260424T101236
CREATED:20240320T140333Z
LAST-MODIFIED:20240811T195710Z
UID:3783-1713830400-1713916799@mahamontessori.com
SUMMARY:Passover (first day)
DESCRIPTION:Note: Jewish holidays begin at sundown the day before the date specified for the holiday. \nThis is not a public holiday in the United States. Most businesses\, schools\, and offices are open and follow regular hours\, but Jewish-run businesses and organizations might be closed. \nFor more info on Passover\, click here.
URL:https://mahamontessori.com/event/passover-first-day/
CATEGORIES:Jewish
ATTACH;FMTTYPE=image/jpeg:https://mahamontessori.com/wp-content/uploads/2024/02/shutterstock_606028013-1-min.jpg
END:VEVENT
END:VCALENDAR