BEGIN:VCALENDAR
VERSION:2.0
PRODID:-//Maha Montessori - ECPv6.15.13//NONSGML v1.0//EN
CALSCALE:GREGORIAN
METHOD:PUBLISH
X-WR-CALNAME:Maha Montessori
X-ORIGINAL-URL:https://mahamontessori.com
X-WR-CALDESC:Events for Maha Montessori
REFRESH-INTERVAL;VALUE=DURATION:PT1H
X-Robots-Tag:noindex
X-PUBLISHED-TTL:PT1H
BEGIN:VTIMEZONE
TZID:America/Los_Angeles
BEGIN:DAYLIGHT
TZOFFSETFROM:-0800
TZOFFSETTO:-0700
TZNAME:PDT
DTSTART:20250309T100000
END:DAYLIGHT
BEGIN:STANDARD
TZOFFSETFROM:-0700
TZOFFSETTO:-0800
TZNAME:PST
DTSTART:20251102T090000
END:STANDARD
BEGIN:DAYLIGHT
TZOFFSETFROM:-0800
TZOFFSETTO:-0700
TZNAME:PDT
DTSTART:20260308T100000
END:DAYLIGHT
BEGIN:STANDARD
TZOFFSETFROM:-0700
TZOFFSETTO:-0800
TZNAME:PST
DTSTART:20261101T090000
END:STANDARD
BEGIN:DAYLIGHT
TZOFFSETFROM:-0800
TZOFFSETTO:-0700
TZNAME:PDT
DTSTART:20270314T100000
END:DAYLIGHT
BEGIN:STANDARD
TZOFFSETFROM:-0700
TZOFFSETTO:-0800
TZNAME:PST
DTSTART:20271107T090000
END:STANDARD
END:VTIMEZONE
BEGIN:VEVENT
DTSTART;VALUE=DATE:20260308
DTEND;VALUE=DATE:20260309
DTSTAMP:20260421T132330
CREATED:20260107T040628Z
LAST-MODIFIED:20260107T040628Z
UID:6773-1772928000-1773014399@mahamontessori.com
SUMMARY:Daylight Saving Time starts
DESCRIPTION:Also called Spring Forward. \nMost of the United States observes daylight saving time (DST)\, the practice of setting the clock forward by one hour when there is longer daylight during the day\, so that evenings have more daylight and mornings have less. Exceptions include Arizona (except for the Navajo\, who do observe daylight saving time in the Navajo Nation)\, Hawaii\, and the territories of American Samoa\, Guam\, the Northern Mariana Islands\, Puerto Rico\, and the United States Virgin Islands. The Uniform Time Act of 1966 established a uniform set of rules for states opting to observe daylight saving time. \nIn the U.S.\, daylight saving time starts on the second Sunday in March and ends on the first Sunday in November\, with the time changes taking place at 2:00 a.m. local time. With a mnemonic word play referring to seasons\, clocks “spring forward\, fall back”—that is\, in springtime the clocks are moved forward from 2:00 a.m. to 3:00 a.m. and in fall they are moved back from 2:00 a.m. to 1:00 a.m. Daylight saving time lasts for a total of 34 weeks (238 days) every year\, about 65% of the entire year.
URL:https://mahamontessori.com/event/daylight-saving-time-starts-2/
CATEGORIES:Clock Change
END:VEVENT
END:VCALENDAR